BEGIN:VCALENDAR
VERSION:2.0
PRODID:-//ChamberMaster//Event Calendar 2.0//EN
METHOD:PUBLISH
X-PUBLISHED-TTL:P1H
REFRESH-INTERVAL:P1H
CALSCALE:GREGORIAN
BEGIN:VTIMEZONE
TZID:America/Denver
BEGIN:DAYLIGHT
RRULE:FREQ=YEARLY;BYMONTH=3;BYDAY=2SU
DTSTART:20070101T000000
TZOFFSETFROM:-0700
TZOFFSETTO:-0600
TZNAME:Mountain Daylight Time
END:DAYLIGHT
BEGIN:STANDARD
RRULE:FREQ=YEARLY;BYMONTH=11;BYDAY=1SU
DTSTART:20070101T000000
TZOFFSETFROM:-0600
TZOFFSETTO:-0700
TZNAME:Mountain Standard Time
END:STANDARD
END:VTIMEZONE
BEGIN:VEVENT
DTSTART;VALUE=DATE:20260427
DTEND;VALUE=DATE:20260801
TRANSP:TRANSPARENT
X-MICROSOFT-CDO-ALLDAYEVENT:TRUE
SUMMARY:Copy of 2025 Summer Conference
DESCRIPTION:2025 CWC Summer Conference\nWe are back at the Steamboat Grand!Join us at the Colorado Water Congress Summer Conference and be part of the conversation driving positive change for our water future!How do ag producers conserve?How are conservation groups working with our traditional water structure?What tools are municipal water users employing to conserve?Can storage be a conservation tool?You can find the agenda and timeline.Registration closed on Thursday\, July 31st!Be sure to check out our volunteer opportunities if you would like to attend and didn't get registered in time. LIFETIME/HONORARY MEMBERS: To register at your discounted pricing\, you must use your email when logging in. If you are registering a lifetime/honorary member\, you must use their email to register them.CLE CREDIT: We have received 5 CLE credits for the Summer Conference. There will be a QR code to scan onsite to request the CLE form once we have verified your attendance.SPONSORS: You can now sign up to sponsor through the register link to the right (you may need to enter your email first). \n \nSponsors and Exhibitors\, you can find the Exhibitor/Sponsor packet. \n \nEXHIBITORS: Exhibitor options are only available through the exhibitor registration link to the right you may need to enter your email first).You can also sponsor and register other attendees through the exhibitor link.HOTEL RESERVATIONS: Find all our hotel options.POND ACTIVITESRSVP for POND Networking events at Summer Conference in Steamboat Springs!We will once again have our POND reception and activities at the Colorado Water Congress Summer Conference in Steamboat Springs.\nTuesday August 19thPOND Reception at the Steamboat Grand starting at 5pmPOND Karaoke Night at Schmiggity's in Downtown Steamboat at 9pm   Bring your singing voices. Look for more information for transportation from the Steamboat Grand coming soon.Wednesday August 20thPOND will be hosting the following activities. Please RSVP today:Mountain BikingGolf - must RSVP by August 13th!Trail RunningHikeBrewery/Distillery Tour - RSVP now open!Please click the links for each event and RSVP!\n*PLEASE KNOW THAT WE DO NOT SEND OUT EMAILS ASKING IF YOU WOULD LIKE A MAILING LIST OF OUR CONFERENCE ATTENDEES FOR ANY OF OUR CONFERENCES*
X-ALT-DESC;FMTTYPE=text/html:<!DOCTYPE html><html><head><title></title></head><body aria-disabled="false"><p style="text-align: left\;"><strong fr-original-style="" style="font-weight: 700\;"><span style="color: rgb(41\, 105\, 176)\; font-family: Verdana\, Geneva\, sans-serif\;">2025 CWC Summer Conference</span></strong><span style="font-family: Verdana\,Geneva\,sans-serif\;"><strong fr-original-style="" style="font-weight: 700\;"><span style="color: rgb(41\, 105\, 176)\;"><br>We are back at the Steamboat Grand!</span></strong></span></p><p style="text-align: left\;"><span style="font-family: Verdana\,Geneva\,sans-serif\;"><span style="color: rgb(71\, 85\, 119)\;">Join us at the Colorado Water Congress Summer Conference and be part of the conversation driving positive change for our water future!</span></span></p><ul fr-original-style="" style="list-style-position: inside\;"><li style="color: rgb(71\, 85\, 119)\; font-family: Verdana\, Geneva\, sans-serif\;">How do ag producers conserve?</li><li style="font-family: Verdana\, Geneva\, sans-serif\; color: rgb(71\, 85\, 119)\;">How are conservation groups working with our traditional water structure?</li><li style="font-family: Verdana\, Geneva\, sans-serif\; color: rgb(71\, 85\, 119)\;">What tools are municipal water users employing to conserve?</li><li style="font-family: Verdana\, Geneva\, sans-serif\; color: rgb(71\, 85\, 119)\;">Can storage be a conservation tool?</li></ul><p style="margin-bottom: 8pt\; text-align: left\;"><span style="font-family: Verdana\,Geneva\,sans-serif\;"><span style="color: rgb(71\, 85\, 119)\;">You can&nbsp\;</span><span style="color: rgb(41\, 105\, 176)\;"><strong fr-original-style="" style="font-weight: 700\;"><u><a fr-original-style="" href="https://coloradowatercongress.growthzoneapp.com/ap/CloudFile/Download/rX4NKmlr" rel="noopener noreferrer" style="-webkit-user-select: auto\; color: inherit\;" target="_blank">find the agenda and timeline.</a></u></strong></span></span></p><p style="text-align: left\;"><span style="font-family: Verdana\,Geneva\,sans-serif\;"><span style="color: rgb(243\, 121\, 52)\;"><strong fr-original-style="" style="font-weight: 700\;">Registration closed on Thursday\, July 31st!</strong></span></span></p><p style="text-align: left\;"><span style="font-family: Verdana\,Geneva\,sans-serif\;"><strong fr-original-style="" style="font-weight: 700\;"><span style="color: rgb(41\, 105\, 176)\;">Be sure to&nbsp\;</span></strong><a fr-original-style="" href="https://members.cowatercongress.org/ap/Events/Register/8EFwNZwhOCRC7" rel="noopener noreferrer" style="-webkit-user-select: auto\;" target="_blank"><strong fr-original-style="" style="font-weight: 700\;"><span style="color: rgb(41\, 105\, 176)\;">check out our volunteer opportunities</span></strong></a><strong fr-original-style="" style="font-weight: 700\;"><span style="color: rgb(41\, 105\, 176)\;">&nbsp\;if you would like to attend and didn&#39\;t get registered in time.&nbsp\;</span></strong></span></p><p style="text-align: left\;"><span style="font-family: Verdana\,Geneva\,sans-serif\;"><span style="color: rgb(243\, 121\, 52)\;"><strong fr-original-style="" style="font-weight: 700\;">LIFETIME/HONORARY MEMBERS:</strong></span> <span style="color: rgb(71\, 85\, 119)\;">To register at your discounted pricing\, you must use your email when logging in. If you are registering a lifetime/honorary member\, you must use their email to register them.</span></span></p><p style="text-align: left\;"><span style="font-family: Verdana\,Geneva\,sans-serif\;"><span style="color: rgb(243\, 121\, 52)\;"><strong fr-original-style="" style="font-weight: 700\;">CLE CREDIT:</strong></span><span style="color: rgb(71\, 85\, 119)\;">&nbsp\;We have received 5 CLE credits for the Summer Conference. There will be a QR code to scan onsite to request the CLE form once we have verified your attendance.</span></span></p><p style="text-align: left\;"><span style="font-family: Verdana\,Geneva\,sans-serif\;"><span style="color: rgb(243\, 121\, 52)\;"><strong fr-original-style="" style="font-weight: 700\;">SPONSORS:</strong></span> <span style="color: rgb(71\, 85\, 119)\;">You can now sign up to sponsor through the <strong fr-original-style="" style="font-weight: 700\;">register</strong> link to the right (you may need to enter your email first). <br> <br>Sponsors and Exhibitors\, you can&nbsp\;</span><span style="color: rgb(41\, 105\, 176)\;"><strong fr-original-style="" style="font-weight: 700\;"><u><a fr-original-style="" href="https://coloradowatercongress.growthzoneapp.com/ap/CloudFile/Download/LqBQe13r" rel="noopener noreferrer" style="-webkit-user-select: auto\; color: inherit\;" target="_blank">find the Exhibitor/Sponsor packet.</a></u></strong></span> <br> <br><span style="color: rgb(243\, 121\, 52)\;"><strong fr-original-style="" style="font-weight: 700\;">EXHIBITORS:</strong></span><strong fr-original-style="" style="font-weight: 700\;">&nbsp\;</strong><span style="color: rgb(71\, 85\, 119)\;">Exhibitor options are only available through the <strong fr-original-style="" style="font-weight: 700\;">exhibitor registration</strong> link to the right you may need to enter your email first).</span></span></p><div align="center" style="text-align: center\;"><p style="text-align: left\;"><span style="font-family: Verdana\,Geneva\,sans-serif\;"><span style="color: rgb(71\, 85\, 119)\;">You can also sponsor and register other attendees through the exhibitor link.</span></span></p><div align="center" style="text-align: center\;"><p style="text-align: left\;"><span style="font-family: Verdana\,Geneva\,sans-serif\;"><span style="color: rgb(243\, 121\, 52)\;"><strong fr-original-style="" style="font-weight: 700\;">HOTEL RESERVATIONS:</strong></span><span style="color: rgb(71\, 85\, 119)\;">&nbsp\;</span><span style="color: rgb(41\, 105\, 176)\;"><strong fr-original-style="" style="font-weight: 700\;"><u><a fr-original-style="" href="https://www.cowatercongress.org/conferences/2025-summer-conference-hotel-options/" rel="noopener noreferrer" style="-webkit-user-select: auto\; color: inherit\;" target="_blank">Find all our hotel options.</a></u></strong></span></span></p><hr fr-original-style="" style="clear: both\; -webkit-user-select: none\; break-after: page\;"><p style="text-align: left\;"><span style="font-family: Verdana\,Geneva\,sans-serif\;"><span style="color: rgb(243\, 121\, 52)\;"><strong fr-original-style="" style="font-weight: 700\;">POND ACTIVITES</strong></span></span></p><div data-node="32rv65lgjki8" style="box-sizing: border-box\; caret-color: rgb(102\, 102\, 102)\; color: rgb(102\, 102\, 102)\; letter-spacing: 0.3px\; font-family: Lato\, sans-serif\; font-size: 18px\;"><div style="box-sizing: border-box\; margin: 20px\;"><span style="font-family: Verdana\,Geneva\,sans-serif\;"><span style="box-sizing: border-box\;"><h3 style='box-sizing: border-box\; font-family: "Zilla Slab"\, serif\; font-weight: 500\; line-height: 1.2\; font-size: 36px\; letter-spacing: 0px\; margin: 0px !important\; padding: 0px !important\; text-align: left\;'><span style="box-sizing: border-box\; font-size: 16px\; color: rgb(41\, 105\, 176)\;"><span style="box-sizing: border-box\;"><span class="fr-unprocessed" style="font-family: Verdana\,Geneva\,sans-serif\;">RSVP for POND Networking events at Summer Conference in Steamboat Springs!</span></span></span></h3></span></span></div></div><div data-node="bf70mk46npy1" style="box-sizing: border-box\; caret-color: rgb(102\, 102\, 102)\; color: rgb(102\, 102\, 102)\; letter-spacing: 0.3px\; font-family: Verdana\, Geneva\, sans-serif\; font-size: 16px\;"><div style="box-sizing: border-box\; margin: 20px\;"><div style="box-sizing: border-box\;"><div style="box-sizing: border-box\; text-align: left\;"><span class="fr-unprocessed" style="font-family: Verdana\,Geneva\,sans-serif\;"><span style="font-family: Verdana\,Geneva\,sans-serif\;"><span style="box-sizing: border-box\;"><span style="box-sizing: border-box\;"><span style="box-sizing: border-box\; color: rgb(71\, 85\, 119)\;">We will once again have our POND reception and activities at the Colorado Water Congress Summer Conference in Steamboat Springs.</span></span></span></span></span></div><div style="box-sizing: border-box\; text-align: left\;"><span class="fr-unprocessed" style="font-family: Verdana\,Geneva\,sans-serif\;"><span style="font-family: Verdana\,Geneva\,sans-serif\;"><span style="box-sizing: border-box\;"><span style="box-sizing: border-box\;"><span style="box-sizing: border-box\; color: rgb(71\, 85\, 119)\;"><br style="box-sizing: border-box\;"></span></span></span></span></span></div><div style="box-sizing: border-box\; text-align: left\;"><span class="fr-unprocessed" style="font-family: Verdana\,Geneva\,sans-serif\;"><span style="font-family: Verdana\,Geneva\,sans-serif\;"><span style="box-sizing: border-box\;"><span style="box-sizing: border-box\;"><span style="box-sizing: border-box\; color: rgb(71\, 85\, 119)\;"><u style="box-sizing: border-box\;">Tuesday August 19<span style="box-sizing: border-box\; font-size: 13.5px\; line-height: 0\; position: relative\; vertical-align: baseline\; top: -0.5em\;">th</span></u></span></span></span></span></span></div><div style="box-sizing: border-box\;"><ul fr-original-style="box-sizing: border-box\; margin-top: 0px\; margin-bottom: 10px\;" style="box-sizing: border-box\; margin-top: 0px\; margin-bottom: 10px\; list-style-position: inside\;"><li style="box-sizing: border-box\; color: rgb(71\, 85\, 119)\; text-align: left\; font-family: Verdana\, Geneva\, sans-serif\;">POND Reception at the Steamboat Grand starting at 5pm</li><li style="box-sizing: border-box\; color: rgb(71\, 85\, 119)\; text-align: left\; font-family: Verdana\, Geneva\, sans-serif\;">POND Karaoke Night at Schmiggity&rsquo\;s in Downtown Steamboat at 9pm &ndash\; Bring your singing voices. Look for more information for transportation from the Steamboat Grand coming soon.</li></ul><p style="box-sizing: border-box\; margin: 0px 0px 10px\; text-align: left\;"><span style="font-family: Verdana\,Geneva\,sans-serif\;"><span style="box-sizing: border-box\;"><span style="box-sizing: border-box\; color: rgb(71\, 85\, 119)\;"><u style="box-sizing: border-box\;">Wednesday August 20<span style="box-sizing: border-box\; line-height: 0\; position: relative\; vertical-align: baseline\; top: -0.5em\;">th</span></u></span></span></span></p><p style="box-sizing: border-box\; margin: 0px 0px 10px\; text-align: left\;"><span style="font-family: Verdana\,Geneva\,sans-serif\;"><span style="box-sizing: border-box\;"><span style="box-sizing: border-box\; color: rgb(71\, 85\, 119)\;">POND will be hosting the following activities. Please RSVP today:</span></span></span></p><ul fr-original-style="box-sizing: border-box\; margin-top: 0px\; margin-bottom: 10px\;" style="box-sizing: border-box\; margin-top: 0px\; margin-bottom: 10px\; list-style-position: inside\;"><li style="box-sizing: border-box\; color: rgb(71\, 85\, 119)\; text-align: left\; font-family: Verdana\, Geneva\, sans-serif\;"><span style="box-sizing: border-box\; color: rgb(41\, 105\, 176)\;"><u style="box-sizing: border-box\;"><strong fr-original-style="box-sizing: border-box\;" style="box-sizing: border-box\; font-weight: 700\;"><span style="box-sizing: border-box\;"><a fr-original-style="box-sizing: border-box\; color: rgb(39\, 120\, 189)\; text-decoration: none\;" href="https://members.cowatercongress.org/ap/Form/Fill/p88NqFEp" rel="noopener noreferrer" style="box-sizing: border-box\; color: rgb(39\, 120\, 189)\; text-decoration: none\; -webkit-user-select: auto\;" target="_blank">Mountain Biking</a></span></strong></u></span></li><li style="box-sizing: border-box\; color: rgb(71\, 85\, 119)\; text-align: left\; font-family: Verdana\, Geneva\, sans-serif\;"><span style="box-sizing: border-box\; color: rgb(41\, 105\, 176)\;"><u style="box-sizing: border-box\;"><strong fr-original-style="box-sizing: border-box\;" style="box-sizing: border-box\; font-weight: 700\;"><span style="box-sizing: border-box\;"><a fr-original-style="box-sizing: border-box\; color: rgb(39\, 120\, 189)\; text-decoration: none\;" href="https://members.cowatercongress.org/ap/Form/Fill/p58mmTxr" rel="noopener noreferrer" style="box-sizing: border-box\; color: rgb(39\, 120\, 189)\; text-decoration: none\; -webkit-user-select: auto\;" target="_blank">Golf - must RSVP by August 13th!</a></span></strong></u></span></li><li style="box-sizing: border-box\; color: rgb(71\, 85\, 119)\; text-align: left\; font-family: Verdana\, Geneva\, sans-serif\;"><span style="box-sizing: border-box\; color: rgb(41\, 105\, 176)\;"><strong fr-original-style="box-sizing: border-box\;" style="box-sizing: border-box\; font-weight: 700\;"><u style="box-sizing: border-box\;"><span style="box-sizing: border-box\;"><a fr-original-style="box-sizing: border-box\; color: rgb(39\, 120\, 189)\; text-decoration: none\;" href="https://members.cowatercongress.org/ap/Form/Fill/pRM9gtMr" rel="noopener noreferrer" style="box-sizing: border-box\; color: rgb(39\, 120\, 189)\; text-decoration: none\; -webkit-user-select: auto\;" target="_blank">Trail Running</a></span></u></strong></span></li><li style="box-sizing: border-box\; color: rgb(71\, 85\, 119)\; text-align: left\; font-family: Verdana\, Geneva\, sans-serif\;"><span style="box-sizing: border-box\; color: rgb(41\, 105\, 176)\;"><u style="box-sizing: border-box\;"><strong fr-original-style="box-sizing: border-box\;" style="box-sizing: border-box\; font-weight: 700\;"><span style="box-sizing: border-box\;"><a fr-original-style="box-sizing: border-box\; color: rgb(39\, 120\, 189)\; text-decoration: none\;" href="https://members.cowatercongress.org/ap/Form/Fill/p88X8hEp" rel="noopener noreferrer" style="box-sizing: border-box\; color: rgb(39\, 120\, 189)\; text-decoration: none\; -webkit-user-select: auto\;" target="_blank">Hike</a></span></strong></u></span></li><li style="box-sizing: border-box\; color: rgb(71\, 85\, 119)\; text-align: left\; font-family: Verdana\, Geneva\, sans-serif\;"><span style="box-sizing: border-box\; color: rgb(41\, 105\, 176)\;"><u style="box-sizing: border-box\;"><strong fr-original-style="box-sizing: border-box\;" style="box-sizing: border-box\; font-weight: 700\;"><span style="box-sizing: border-box\;"><a fr-original-style="box-sizing: border-box\; color: rgb(39\, 120\, 189)\; text-decoration: none\;" href="https://members.cowatercongress.org/ap/Form/Fill/rkvxmcVL" rel="noopener noreferrer" style="box-sizing: border-box\; color: rgb(39\, 120\, 189)\; text-decoration: none\; -webkit-user-select: auto\;" target="_blank">Brewery/Distillery Tour - RSVP now open!</a></span></strong></u></span></li></ul><p style="box-sizing: border-box\; margin: 0px 0px 10px\; text-align: left\;"><span style="font-family: Verdana\,Geneva\,sans-serif\;"><span style="box-sizing: border-box\;"><span style="box-sizing: border-box\; color: rgb(71\, 85\, 119)\;">Please click the links for each event and RSVP!</span></span></span></p></div></div></div></div><p style="caret-color: rgb(33\, 33\, 33)\; color: rgb(33\, 33\, 33)\; text-align: left\;"><span style="font-family: Verdana\,Geneva\,sans-serif\;"><span style="font-size: 18px\;"><br></span></span></p><p style="text-align: left\;"><span style="font-size: 18px\;"><strong fr-original-style="" style="font-weight: 700\;"><span style="color: rgb(184\, 49\, 47)\; font-family: Verdana\, Geneva\, sans-serif\;">*PLEASE KNOW THAT WE DO NOT SEND OUT EMAILS ASKING IF YOU WOULD LIKE A MAILING LIST OF OUR CONFERENCE ATTENDEES FOR ANY OF OUR CONFERENCES*</span></strong></span></p></div></div></body></html>
LOCATION:2300 Mt Werner Circle Steamboat Springs CO 80487
UID:e.3453.1445068
SEQUENCE:3
DTSTAMP:20260420T050322Z
URL:https://members.cowatercongress.org/calendar/Details/copy-of-2025-summer-conference-1711551?sourceTypeId=Hub
END:VEVENT
END:VCALENDAR
